BEGIN:VCALENDAR
VERSION:2.0
PRODID:-//Pittsburgh Randonneurs - ECPv6.15.20//NONSGML v1.0//EN
CALSCALE:GREGORIAN
METHOD:PUBLISH
X-WR-CALNAME:Pittsburgh Randonneurs
X-ORIGINAL-URL:https://pittsburghrandonneurs.com
X-WR-CALDESC:Events for Pittsburgh Randonneurs
REFRESH-INTERVAL;VALUE=DURATION:PT1H
X-Robots-Tag:noindex
X-PUBLISHED-TTL:PT1H
BEGIN:VTIMEZONE
TZID:America/New_York
BEGIN:DAYLIGHT
TZOFFSETFROM:-0500
TZOFFSETTO:-0400
TZNAME:EDT
DTSTART:20240310T070000
END:DAYLIGHT
BEGIN:STANDARD
TZOFFSETFROM:-0400
TZOFFSETTO:-0500
TZNAME:EST
DTSTART:20241103T060000
END:STANDARD
BEGIN:DAYLIGHT
TZOFFSETFROM:-0500
TZOFFSETTO:-0400
TZNAME:EDT
DTSTART:20250309T070000
END:DAYLIGHT
BEGIN:STANDARD
TZOFFSETFROM:-0400
TZOFFSETTO:-0500
TZNAME:EST
DTSTART:20251102T060000
END:STANDARD
BEGIN:DAYLIGHT
TZOFFSETFROM:-0500
TZOFFSETTO:-0400
TZNAME:EDT
DTSTART:20260308T070000
END:DAYLIGHT
BEGIN:STANDARD
TZOFFSETFROM:-0400
TZOFFSETTO:-0500
TZNAME:EST
DTSTART:20261101T060000
END:STANDARD
BEGIN:DAYLIGHT
TZOFFSETFROM:-0500
TZOFFSETTO:-0400
TZNAME:EDT
DTSTART:20270314T070000
END:DAYLIGHT
BEGIN:STANDARD
TZOFFSETFROM:-0400
TZOFFSETTO:-0500
TZNAME:EST
DTSTART:20271107T060000
END:STANDARD
END:VTIMEZONE
BEGIN:VEVENT
DTSTART;TZID=America/New_York:20260419T070000
DTEND;TZID=America/New_York:20260419T203000
DTSTAMP:20260424T204431
CREATED:20251020T150018Z
LAST-MODIFIED:20260301T163156Z
UID:10000070-1776582000-1776630600@pittsburghrandonneurs.com
SUMMARY:Kittens and Puppies and Beaver 200K
DESCRIPTION:Introduced just last year\, this is an homage to our long-departed flat riverside K&P route on Rte 51.  \nUnlike the original route\, this one starts in Beaver Falls and heads west into Ohio. \nAlthough the first 4 miles are almost entirely uphill\, it’s a gradual climb\, with a strategically placed Sheetz just a couple miles from the start and shortly before the first turn. \nParking at the trailhead itself is *very* limited\, but there is plenty of street parking nearby. \nRegistration closes: Friday April 17th 2026 \nInspection opens: Sunday April 19th 6:30 AM \nRequirements: current RUSA membership\, signed waiver \nRide start: Sunday April 19th 7:00 AM (13:30 time limit) \nRoute:
URL:https://pittsburghrandonneurs.com/event/2026-04-19-200k-brevet/
LOCATION:Beaver River Trailhead\, 2900 7th Ave Ext\, Beaver Falls\, PA\, 15010\, United States
CATEGORIES:200 K,Brevet
ORGANIZER;CN="Dan Blumenfeld":MAILTO:rbapgh@gmail.com
END:VEVENT
BEGIN:VEVENT
DTSTART;TZID=America/New_York:20250726T070000
DTEND;TZID=America/New_York:20250726T203000
DTSTAMP:20260424T204431
CREATED:20241015T011343Z
LAST-MODIFIED:20250721T140701Z
UID:10000057-1753513200-1753561800@pittsburghrandonneurs.com
SUMMARY:Kittens & Puppies & Beaver 200K
DESCRIPTION:New for 2025: an homage to our long-departed flat riverside K&P route\, this route starts in Beaver Falls and heads west into Ohio. \nAlthough the first 4 miles are almost entirely uphill\, it’s a gradual climb\, with a strategically placed Sheetz just a mile or two from the start. \nParking at the trailhead itself is limited\, but there is plenty of street parking nearby \nRegistration closes: Thursday July 24th 2024 \nInspection opens: Saturday July 26th 6:30 AM \nRequirements: current RUSA membership\, signed waiver \nRide start: Saturday July 26th 7:00 AM (13:30 time limit) \nRoute:
URL:https://pittsburghrandonneurs.com/event/2025-200k-rusa-brevet-07-26/
LOCATION:Beaver River Trailhead\, 2900 7th Ave Ext\, Beaver Falls\, PA\, 15010\, United States
CATEGORIES:200 K,Brevet
ORGANIZER;CN="Dan Blumenfeld":MAILTO:rbapgh@gmail.com
END:VEVENT
BEGIN:VEVENT
DTSTART;TZID=America/New_York:20250419T070000
DTEND;TZID=America/New_York:20250419T203000
DTSTAMP:20260424T204431
CREATED:20241015T010201Z
LAST-MODIFIED:20250415T010328Z
UID:10000048-1745046000-1745094600@pittsburghrandonneurs.com
SUMMARY:Kittens & Puppies & Beaver 200K
DESCRIPTION:New for 2025: an homage to our long-departed flat riverside K&P route\, this route starts in Beaver Falls and heads west into Ohio. \nAlthough the first 4 miles are almost entirely uphill\, it’s a gradual climb\, with a strategically placed Sheetz just around the corner from the trailhead. \nRegistration closes: Thursday April 17th 2024 \nInspection opens: Saturday April 19th 6:30 AM \nRequirements: current RUSA membership\, signed waiver \nRide start: Saturday April 19th 7:00 AM (13:30 time limit) \nRoute:
URL:https://pittsburghrandonneurs.com/event/2025-200k-acp-brevet-04-19/
LOCATION:Beaver River Trailhead\, 2900 7th Ave Ext\, Beaver Falls\, PA\, 15010\, United States
CATEGORIES:200 K,Brevet
ORGANIZER;CN="Dan Blumenfeld":MAILTO:rbapgh@gmail.com
END:VEVENT
END:VCALENDAR