BEGIN:VCALENDAR
VERSION:2.0
PRODID:-//Pittsburgh Randonneurs - ECPv6.15.20//NONSGML v1.0//EN
CALSCALE:GREGORIAN
METHOD:PUBLISH
X-WR-CALNAME:Pittsburgh Randonneurs
X-ORIGINAL-URL:https://pittsburghrandonneurs.com
X-WR-CALDESC:Events for Pittsburgh Randonneurs
REFRESH-INTERVAL;VALUE=DURATION:PT1H
X-Robots-Tag:noindex
X-PUBLISHED-TTL:PT1H
BEGIN:VTIMEZONE
TZID:America/New_York
BEGIN:DAYLIGHT
TZOFFSETFROM:-0500
TZOFFSETTO:-0400
TZNAME:EDT
DTSTART:20220313T070000
END:DAYLIGHT
BEGIN:STANDARD
TZOFFSETFROM:-0400
TZOFFSETTO:-0500
TZNAME:EST
DTSTART:20221106T060000
END:STANDARD
BEGIN:DAYLIGHT
TZOFFSETFROM:-0500
TZOFFSETTO:-0400
TZNAME:EDT
DTSTART:20230312T070000
END:DAYLIGHT
BEGIN:STANDARD
TZOFFSETFROM:-0400
TZOFFSETTO:-0500
TZNAME:EST
DTSTART:20231105T060000
END:STANDARD
BEGIN:DAYLIGHT
TZOFFSETFROM:-0500
TZOFFSETTO:-0400
TZNAME:EDT
DTSTART:20240310T070000
END:DAYLIGHT
BEGIN:STANDARD
TZOFFSETFROM:-0400
TZOFFSETTO:-0500
TZNAME:EST
DTSTART:20241103T060000
END:STANDARD
END:VTIMEZONE
BEGIN:VEVENT
DTSTART;TZID=America/New_York:20230415T070000
DTEND;TZID=America/New_York:20230415T203000
DTSTAMP:20260419T095858
CREATED:20230105T155753Z
LAST-MODIFIED:20240716T013030Z
UID:10000007-1681542000-1681590600@pittsburghrandonneurs.com
SUMMARY:Spring Series\, Monongahela - Castleman's Run - Waynesburg 200K ACP Brevet
DESCRIPTION:For 2023\, a new 200K route out of the Aquatorium in Monogahela. We’ll head west\, skirting Washington PA\, until turning southbound at the West Virginia border through the Castleman’s Run Nature Preserve\, heading towards a controle stop at the bustling TA Travel Plaza near Valley Grove. From there\, more country roads to the next controle at the Sheetz in Waynesburg\, and a return to the start. \nRegistration closes: Thursday April 13th 2023 \nInspection opens: Saturday April 15th 6:30 AM \nRequirements: current RUSA membership\, signed waiver\, headlight/taillight/reflective gear \nRide start: Saturday April 15th 7:00 AM (13:30 time limit) \nEPoP: Due to abject laziness on the part of your humble RBA\, we default to electronic proof of passage (e.g Strava or other GPS track) in the Pittsburgh region brevets. That said\, if you prefer olde-schoole printed paperwork such as cue sheets or brevet cards\, I’m happy to provide them…just let me know at least three days in advance of the event\, so that I have time to prepare and print. \n  \nRoute:\n﻿
URL:https://pittsburghrandonneurs.com/event/2023-200k-acp-brevet-04-15/
LOCATION:Noble J. Dick Aquatorium\, Monongahela\, 200 Railroad St\, Monongahela\, PA\, 15063\, United States
CATEGORIES:200 K,Brevet
ORGANIZER;CN="Dan Blumenfeld":MAILTO:rbapgh@gmail.com
GEO:40.203004;-79.923973
X-APPLE-STRUCTURED-LOCATION;VALUE=URI;X-ADDRESS=Noble J. Dick Aquatorium Monongahela 200 Railroad St Monongahela PA 15063 United States;X-APPLE-RADIUS=500;X-TITLE=200 Railroad St:geo:-79.923973,40.203004
END:VEVENT
BEGIN:VEVENT
DTSTART;TZID=America/New_York:20230428T080000
DTEND;TZID=America/New_York:20230428T170000
DTSTAMP:20260419T095858
CREATED:20230105T155924Z
LAST-MODIFIED:20230207T024721Z
UID:10000008-1682668800-1682701200@pittsburghrandonneurs.com
SUMMARY:Crush the Commonwealth
DESCRIPTION:Utterly unaffiliated with RUSA or the Pittsburgh Randonneurs\, Crush the Commonwealth is nonetheless a local ultracycling tradition.
URL:https://pittsburghrandonneurs.com/event/2023-crush-the-commonwealth/
END:VEVENT
END:VCALENDAR