BEGIN:VCALENDAR
VERSION:2.0
PRODID:-//Pittsburgh Randonneurs - ECPv6.15.20//NONSGML v1.0//EN
CALSCALE:GREGORIAN
METHOD:PUBLISH
X-ORIGINAL-URL:https://pittsburghrandonneurs.com
X-WR-CALDESC:Events for Pittsburgh Randonneurs
REFRESH-INTERVAL;VALUE=DURATION:PT1H
X-Robots-Tag:noindex
X-PUBLISHED-TTL:PT1H
BEGIN:VTIMEZONE
TZID:America/New_York
BEGIN:DAYLIGHT
TZOFFSETFROM:-0500
TZOFFSETTO:-0400
TZNAME:EDT
DTSTART:20220313T070000
END:DAYLIGHT
BEGIN:STANDARD
TZOFFSETFROM:-0400
TZOFFSETTO:-0500
TZNAME:EST
DTSTART:20221106T060000
END:STANDARD
BEGIN:DAYLIGHT
TZOFFSETFROM:-0500
TZOFFSETTO:-0400
TZNAME:EDT
DTSTART:20230312T070000
END:DAYLIGHT
BEGIN:STANDARD
TZOFFSETFROM:-0400
TZOFFSETTO:-0500
TZNAME:EST
DTSTART:20231105T060000
END:STANDARD
BEGIN:DAYLIGHT
TZOFFSETFROM:-0500
TZOFFSETTO:-0400
TZNAME:EDT
DTSTART:20240310T070000
END:DAYLIGHT
BEGIN:STANDARD
TZOFFSETFROM:-0400
TZOFFSETTO:-0500
TZNAME:EST
DTSTART:20241103T060000
END:STANDARD
END:VTIMEZONE
BEGIN:VEVENT
DTSTART;TZID=America/New_York:20230617T050000
DTEND;TZID=America/New_York:20230618T010000
DTSTAMP:20260419T084006
CREATED:20230105T161234Z
LAST-MODIFIED:20230504T161147Z
UID:10000013-1686978000-1687050000@pittsburghrandonneurs.com
SUMMARY:Heck Weekend\, 300K ACP Brevet
DESCRIPTION:Heck Weekend Day Two: 300K of adventure! \nAnother classic route\, this 300K out-n-back includes everything from post-industrial urban neighborhoods to short steep stretches of unpaved trail…plus plenty of Sheetz stops. \nUpdate 05/13/2022: As Bob Gregory noted\, it is possible that water levels behind the Connemaugh Dam are high enough that the trail around mile 41 may be a bit more than merely damp. In that case\, there’s a detour available starting at the trailhead at mile 38.6; it’s an on-road leg that adds one mile and 100′ of climbing. I will attempt to verify passability the day of the ride; but I will certainly accept GPS tracks that take the bypass. \nRegistration closes: Wednesday June 14th 2023 \nInspection opens: Saturday June 17th 4:30 AM \nRequirements: current RUSA membership\, signed waiver\, headlight/taillight/reflective gear \nRide start: Saturday June 17th 5:00 AM (20:00 time limit) \nRoute:
URL:https://pittsburghrandonneurs.com/event/2023-300k-acp-brevet-06-17/
LOCATION:Homestead Hampton Inn & Suites\, 301 W Waterfront Dr\, West Homestead\, PA\, 15120\, United States
CATEGORIES:300 K,Brevet
ORGANIZER;CN="Dan Blumenfeld":MAILTO:rbapgh@gmail.com
END:VEVENT
END:VCALENDAR